BEGIN:VCALENDAR
VERSION:2.0
PRODID:-//Institute of Mathematics and Informatics - ECPv6.0.8//NONSGML v1.0//EN
CALSCALE:GREGORIAN
METHOD:PUBLISH
X-WR-CALNAME:Institute of Mathematics and Informatics
X-ORIGINAL-URL:https://math.bas.bg
X-WR-CALDESC:Събития за Institute of Mathematics and Informatics
REFRESH-INTERVAL;VALUE=DURATION:PT1H
X-Robots-Tag:noindex
X-PUBLISHED-TTL:PT1H
BEGIN:VTIMEZONE
TZID:Europe/Sofia
BEGIN:DAYLIGHT
TZOFFSETFROM:+0200
TZOFFSETTO:+0300
TZNAME:EEST
DTSTART:20240331T010000
END:DAYLIGHT
BEGIN:STANDARD
TZOFFSETFROM:+0300
TZOFFSETTO:+0200
TZNAME:EET
DTSTART:20241027T010000
END:STANDARD
END:VTIMEZONE
BEGIN:VEVENT
DTSTART;TZID=Europe/Sofia:20241007T133000
DTEND;TZID=Europe/Sofia:20241007T170000
DTSTAMP:20260420T014702
CREATED:20241006T092159Z
LAST-MODIFIED:20241006T093802Z
UID:16852-1728307800-1728320400@math.bas.bg
SUMMARY:Семинар План за възстановяване и устойчивост в ИМИ-БАН
DESCRIPTION:Семинар \nПлан за възстановяване и устойчивост в ИМИ-БАН\n07.10.2024 (понеделник)\nЗала 578 на ИМИ\n  \nНа семинара ще бъдат представени трите спечелени проекта от екипи на ИМИ\, финансирани от Механизма за възстановяване и устойчивост в изпълнение на инвестиция C2.I2 „Повишаване на иновационния капацитет на Българската академия на науките в сферата на зелените и цифровите технологии“. \n\n\nBG-RRP-2.011-0004  Иновативна софтуерна платформа за сериозни образователни игри с креативна визуализация за изграждане на компетентност и отговорно управление на природните ресурси\, ръководител на екипа: доц. д-р Детелин Лучев\nBG-RRP-2.011-0049  Интегрална рамка за подобряване на здравна услуга чрез анализ на данни\, подавани от пациентите\, ръководител на екипа: доц. д-р Красимира Иванова\nBG-RRP-2.011-0051  Модели\, методи и средства за предвиждане на техническото и възприетото качество на обслужване в кибер-физически-социални системи\, ръководител на екипа: проф. д-р Иван Ганчев\n\nПрограма на семинара.
URL:https://math.bas.bg/event/%d1%81%d0%b5%d0%bc%d0%b8%d0%bd%d0%b0%d1%80-%d0%bf%d0%b2%d1%83/
LOCATION:Институт по математика и информатика – БАН\, Block 8\, 1113 БАН IV км.\, София\, Bulgaria
CATEGORIES:Работен семинар
END:VEVENT
END:VCALENDAR