BEGIN:VCALENDAR
VERSION:2.0
PRODID:-//Institute of Mathematics and Informatics - ECPv6.0.8//NONSGML v1.0//EN
CALSCALE:GREGORIAN
METHOD:PUBLISH
X-ORIGINAL-URL:https://math.bas.bg
X-WR-CALDESC:Събития за Institute of Mathematics and Informatics
REFRESH-INTERVAL;VALUE=DURATION:PT1H
X-Robots-Tag:noindex
X-PUBLISHED-TTL:PT1H
BEGIN:VTIMEZONE
TZID:Europe/Sofia
BEGIN:DAYLIGHT
TZOFFSETFROM:+0200
TZOFFSETTO:+0300
TZNAME:EEST
DTSTART:20240331T010000
END:DAYLIGHT
BEGIN:STANDARD
TZOFFSETFROM:+0300
TZOFFSETTO:+0200
TZNAME:EET
DTSTART:20241027T010000
END:STANDARD
END:VTIMEZONE
BEGIN:VEVENT
DTSTART;TZID=Europe/Sofia:20240318T163000
DTEND;TZID=Europe/Sofia:20240318T180000
DTSTAMP:20260422T134720
CREATED:20240315T074444Z
LAST-MODIFIED:20240315T074848Z
UID:16051-1710779400-1710784800@math.bas.bg
SUMMARY:Семинар "Математически основи на информатиката" във Велико Търново
DESCRIPTION:Сбирка на семинара “Математически основи на информатиката” ще се проведе във Велико Търново на 18 март (понеделник) от 16:30 часа в зала 401 на корпус 4 на ВТУ. \nДоклад на тема \nLCD Codes over Mixed Alphabets\nще изнесе Maryam Bajalan\, ИМИ – БАН. \nРезюме: In this presentation\, we describe the structural properties of (Galois) linear complementary dual codes over mixed alphabets arising from finite chain rings. Our focus centres on providing a comprehensive characterization\, outlining the conditions under which a given code falls into this category and it is Galois invariant. This leads to the study of the Gray image of FpFp[θ]-linear codes\, where p ∈ {2\,3} and θ ≠ θ2 = 0 \, that provides Fp-linear complementary dual codes. \nJoin Zoom Meeting\nhttps://us05web.zoom.us/j/87139062405?pwd=OytyS4AVwUy9U0Ok9hbW9tivGfFauR.1 \nMeeting ID: 871 3906 2405\nPasscode: 9BiJtF
URL:https://math.bas.bg/event/%d1%81%d0%b5%d0%bc%d0%b8%d0%bd%d0%b0%d1%80-%d0%bc%d0%b0%d1%82%d0%b5%d0%bc%d0%b0%d1%82%d0%b8%d1%87%d0%b5%d1%81%d0%ba%d0%b8-%d0%be%d1%81%d0%bd%d0%be%d0%b2%d0%b8-%d0%bd%d0%b0-%d0%b8%d0%bd%d1%84%d0%be-3/
LOCATION:Великотърновски университет\, ул. "Теодосий Търновски" № 2\, Велико Търново\, 5005\, Bulgaria
CATEGORIES:Редовен семинар
END:VEVENT
END:VCALENDAR