BEGIN:VCALENDAR
VERSION:2.0
PRODID:-//Institute of Mathematics and Informatics - ECPv6.0.8//NONSGML v1.0//EN
CALSCALE:GREGORIAN
METHOD:PUBLISH
X-WR-CALNAME:Institute of Mathematics and Informatics
X-ORIGINAL-URL:https://math.bas.bg
X-WR-CALDESC:Събития за Institute of Mathematics and Informatics
REFRESH-INTERVAL;VALUE=DURATION:PT1H
X-Robots-Tag:noindex
X-PUBLISHED-TTL:PT1H
BEGIN:VTIMEZONE
TZID:Europe/Sofia
BEGIN:DAYLIGHT
TZOFFSETFROM:+0200
TZOFFSETTO:+0300
TZNAME:EEST
DTSTART:20250330T010000
END:DAYLIGHT
BEGIN:STANDARD
TZOFFSETFROM:+0300
TZOFFSETTO:+0200
TZNAME:EET
DTSTART:20251026T010000
END:STANDARD
END:VTIMEZONE
BEGIN:VEVENT
DTSTART;TZID=Europe/Sofia:20250603T140000
DTEND;TZID=Europe/Sofia:20250603T153000
DTSTAMP:20260424T205022
CREATED:20250530T114116Z
LAST-MODIFIED:20250530T114116Z
UID:17828-1748959200-1748964600@math.bas.bg
SUMMARY:Семинар на МЦМН
DESCRIPTION:Семинарът на МЦМН продължава със серия от четири лекции на д-р Петър Далаков\, както следва: \nДати: 3\, 6\, 10\, 13-ти юни\, 14:00 часа \nМясто: стая 403\, ИМИ-БАН \nЛектор: Петър Далаков (ИМИ и АУБГ) \nТема: Special Kaehler Geometry and some applications \nРезюме: In this short sequence of lectures we will discuss the notion of special Kaehler structure and some of its links to complex algebraic geometry\, in particular\, complex Lagrangians\, variations of Hodge structures and algebraic integrable systems. The sequence will conclude with examples related to various moduli spaces of Higgs bundles on curves. \nПовече информация можете да намерите на страницата на семинара:\nhttps://icms.bg/category/icms-seminar/
URL:https://math.bas.bg/event/%d1%81%d0%b5%d0%bc%d0%b8%d0%bd%d0%b0%d1%80-%d0%bd%d0%b0-%d0%bc%d1%86%d0%bc%d0%bd-32/
LOCATION:Институт по математика и информатика – БАН\, Block 8\, 1113 БАН IV км.\, София\, Bulgaria
CATEGORIES:Редовен семинар
END:VEVENT
BEGIN:VEVENT
DTSTART;TZID=Europe/Sofia:20250606T140000
DTEND;TZID=Europe/Sofia:20250606T153000
DTSTAMP:20260424T205022
CREATED:20250530T115133Z
LAST-MODIFIED:20250530T115133Z
UID:17831-1749218400-1749223800@math.bas.bg
SUMMARY:Семинар на МЦМН
DESCRIPTION:Семинарът на МЦМН продължава със серия от четири лекции на д-р Петър Далаков\, както следва: \nДати: 3\, 6\, 10\, 13-ти юни\, 14:00 часа \nМясто: стая 403\, ИМИ-БАН \nЛектор: Петър Далаков (ИМИ и АУБГ) \nТема: Special Kaehler Geometry and some applications \nРезюме: In this short sequence of lectures we will discuss the notion of special Kaehler structure and some of its links to complex algebraic geometry\, in particular\, complex Lagrangians\, variations of Hodge structures and algebraic integrable systems. The sequence will conclude with examples related to various moduli spaces of Higgs bundles on curves. \nПовече информация можете да намерите на страницата на семинара:\nhttps://icms.bg/category/icms-seminar/
URL:https://math.bas.bg/event/%d1%81%d0%b5%d0%bc%d0%b8%d0%bd%d0%b0%d1%80-%d0%bd%d0%b0-%d0%bc%d1%86%d0%bc%d0%bd-33/
LOCATION:Институт по математика и информатика – БАН\, Block 8\, 1113 БАН IV км.\, София\, Bulgaria
CATEGORIES:Редовен семинар
END:VEVENT
BEGIN:VEVENT
DTSTART;TZID=Europe/Sofia:20250606T140000
DTEND;TZID=Europe/Sofia:20250606T170000
DTSTAMP:20260424T205022
CREATED:20250605T152545Z
LAST-MODIFIED:20250605T152545Z
UID:17864-1749218400-1749229200@math.bas.bg
SUMMARY:Семинар на МЦМН
DESCRIPTION:The ICMS Seminar will meet this Friday\, June 6-th\, at 14:00\, with three lectures by\nPeter Dalakov\, Lyudmil Katzarkov and Ernesto Lupercio from IMI-BAS. \nThe schedule is the following. \nJune 6-th. Room 403 IMI-BAS. \n14:00 – 14:50.  Peter Dalakov\nSpecial Kaehler Geometry and some applications (Part II) \n15:00 – 15:50.  Lyudmil Katzarkov\nAtoms and Minimal Model Program \n16:00 – 16:50. Ernesto Lupercio\nElliptic genus and applications \nAbstracts and more information can be found at\nhttps://icms.bg/category/icms-seminar/
URL:https://math.bas.bg/event/%d1%81%d0%b5%d0%bc%d0%b8%d0%bd%d0%b0%d1%80-%d0%bd%d0%b0-%d0%bc%d1%86%d0%bc%d0%bd-36/
LOCATION:Институт по математика и информатика – БАН\, Block 8\, 1113 БАН IV км.\, София\, Bulgaria
CATEGORIES:Редовен семинар
END:VEVENT
BEGIN:VEVENT
DTSTART;TZID=Europe/Sofia:20250610T140000
DTEND;TZID=Europe/Sofia:20250610T153000
DTSTAMP:20260424T205022
CREATED:20250530T115318Z
LAST-MODIFIED:20250530T115318Z
UID:17835-1749564000-1749569400@math.bas.bg
SUMMARY:Семинар на МЦМН
DESCRIPTION:Семинарът на МЦМН продължава със серия от четири лекции на д-р Петър Далаков\, както следва: \nДати: 3\, 6\, 10\, 13-ти юни\, 14:00 часа \nМясто: стая 403\, ИМИ-БАН \nЛектор: Петър Далаков (ИМИ и АУБГ) \nТема: Special Kaehler Geometry and some applications \nРезюме: In this short sequence of lectures we will discuss the notion of special Kaehler structure and some of its links to complex algebraic geometry\, in particular\, complex Lagrangians\, variations of Hodge structures and algebraic integrable systems. The sequence will conclude with examples related to various moduli spaces of Higgs bundles on curves. \nПовече информация можете да намерите на страницата на семинара:\nhttps://icms.bg/category/icms-seminar/
URL:https://math.bas.bg/event/%d1%81%d0%b5%d0%bc%d0%b8%d0%bd%d0%b0%d1%80-%d0%bd%d0%b0-%d0%bc%d1%86%d0%bc%d0%bd-34/
LOCATION:Институт по математика и информатика – БАН\, Block 8\, 1113 БАН IV км.\, София\, Bulgaria
CATEGORIES:Редовен семинар
END:VEVENT
BEGIN:VEVENT
DTSTART;TZID=Europe/Sofia:20250613T140000
DTEND;TZID=Europe/Sofia:20250613T170000
DTSTAMP:20260424T205022
CREATED:20250530T115921Z
LAST-MODIFIED:20250612T122953Z
UID:17840-1749823200-1749834000@math.bas.bg
SUMMARY:Семинар на МЦМН
DESCRIPTION:Семинарът на МЦМН продължава със серия от четири лекции на д-р Петър Далаков\, както следва: \nДата: 13-ти юни  \nМясто: стая 403\, ИМИ-БАН \n14:00 – 15:30.  Peter Dalakov\nSpecial Kaehler geometry and some applications (Part IV) \n16:00 – 17:00. Ernesto Lupercio\nElliptic genera and the geometry of loop spaces and applications \nРезюмета и допълнителна информация можете да намерите на страницата на семинара:\nhttps://icms.bg/category/icms-seminar/
URL:https://math.bas.bg/event/%d1%81%d0%b5%d0%bc%d0%b8%d0%bd%d0%b0%d1%80-%d0%bd%d0%b0-%d0%bc%d1%86%d0%bc%d0%bd-35/
LOCATION:Институт по математика и информатика – БАН\, Block 8\, 1113 БАН IV км.\, София\, Bulgaria
CATEGORIES:Редовен семинар
END:VEVENT
BEGIN:VEVENT
DTSTART;TZID=Europe/Sofia:20250620T153000
DTEND;TZID=Europe/Sofia:20250620T180000
DTSTAMP:20260424T205022
CREATED:20250616T133106Z
LAST-MODIFIED:20250616T133123Z
UID:17940-1750433400-1750442400@math.bas.bg
SUMMARY:Семинар на МЦМН
DESCRIPTION:Следващото заседание на семинара на МЦМН ще се състои в петък\, с доклади на Алексанър Стоколос и Ернесто Луперсио. \nICMS Seminar\nFriday\, June 20-th. Room 403 IMI-BAS. \n15:30 – 16:30.  Alexander Stokolos (Georgia Southern University)\nOn extremal polynomials \nAbstract: I will present known and new polynomials emerging from the extremal problems of geometric complex analysis. \n16:45 – 17:45. Ernesto Lupercio (IMI-BAS and Cinvestav IPN México)\nAnalysis in Loop Spaces and Genera \nAbstract: Analysis on loop spaces\, motivated by ideas from conformal field theory\, leads naturally to the construction of elliptic genera—topological invariants with deep modular and representation-theoretic properties. \nМore information can be found at the seminar’s website\nhttps://icms.bg/category/icms-seminar/
URL:https://math.bas.bg/event/%d1%81%d0%b5%d0%bc%d0%b8%d0%bd%d0%b0%d1%80-%d0%bd%d0%b0-%d0%bc%d1%86%d0%bc%d0%bd-37/
LOCATION:Институт по математика и информатика – БАН\, Block 8\, 1113 БАН IV км.\, София\, Bulgaria
CATEGORIES:Редовен семинар
END:VEVENT
END:VCALENDAR