BEGIN:VCALENDAR
VERSION:2.0
PRODID:-//Institute of Mathematics and Informatics - ECPv6.0.8//NONSGML v1.0//EN
CALSCALE:GREGORIAN
METHOD:PUBLISH
X-WR-CALNAME:Institute of Mathematics and Informatics
X-ORIGINAL-URL:https://math.bas.bg
X-WR-CALDESC:Събития за Institute of Mathematics and Informatics
REFRESH-INTERVAL;VALUE=DURATION:PT1H
X-Robots-Tag:noindex
X-PUBLISHED-TTL:PT1H
BEGIN:VTIMEZONE
TZID:Europe/Sofia
BEGIN:DAYLIGHT
TZOFFSETFROM:+0200
TZOFFSETTO:+0300
TZNAME:EEST
DTSTART:20190331T010000
END:DAYLIGHT
BEGIN:STANDARD
TZOFFSETFROM:+0300
TZOFFSETTO:+0200
TZNAME:EET
DTSTART:20191027T010000
END:STANDARD
BEGIN:DAYLIGHT
TZOFFSETFROM:+0200
TZOFFSETTO:+0300
TZNAME:EEST
DTSTART:20200329T010000
END:DAYLIGHT
BEGIN:STANDARD
TZOFFSETFROM:+0300
TZOFFSETTO:+0200
TZNAME:EET
DTSTART:20201025T010000
END:STANDARD
BEGIN:DAYLIGHT
TZOFFSETFROM:+0200
TZOFFSETTO:+0300
TZNAME:EEST
DTSTART:20210328T010000
END:DAYLIGHT
BEGIN:STANDARD
TZOFFSETFROM:+0300
TZOFFSETTO:+0200
TZNAME:EET
DTSTART:20211031T010000
END:STANDARD
BEGIN:DAYLIGHT
TZOFFSETFROM:+0200
TZOFFSETTO:+0300
TZNAME:EEST
DTSTART:20220327T010000
END:DAYLIGHT
BEGIN:STANDARD
TZOFFSETFROM:+0300
TZOFFSETTO:+0200
TZNAME:EET
DTSTART:20221030T010000
END:STANDARD
BEGIN:DAYLIGHT
TZOFFSETFROM:+0200
TZOFFSETTO:+0300
TZNAME:EEST
DTSTART:20230326T010000
END:DAYLIGHT
BEGIN:STANDARD
TZOFFSETFROM:+0300
TZOFFSETTO:+0200
TZNAME:EET
DTSTART:20231029T010000
END:STANDARD
BEGIN:DAYLIGHT
TZOFFSETFROM:+0200
TZOFFSETTO:+0300
TZNAME:EEST
DTSTART:20240331T010000
END:DAYLIGHT
BEGIN:STANDARD
TZOFFSETFROM:+0300
TZOFFSETTO:+0200
TZNAME:EET
DTSTART:20241027T010000
END:STANDARD
BEGIN:DAYLIGHT
TZOFFSETFROM:+0200
TZOFFSETTO:+0300
TZNAME:EEST
DTSTART:20250330T010000
END:DAYLIGHT
BEGIN:STANDARD
TZOFFSETFROM:+0300
TZOFFSETTO:+0200
TZNAME:EET
DTSTART:20251026T010000
END:STANDARD
END:VTIMEZONE
BEGIN:VEVENT
DTSTART;TZID=Europe/Sofia:20250128T150000
DTEND;TZID=Europe/Sofia:20250128T160000
DTSTAMP:20260419T220957
CREATED:20250127T134054Z
LAST-MODIFIED:20250128T092422Z
UID:17260-1738076400-1738080000@math.bas.bg
SUMMARY:Предзащита на дисертационен труд на Светозар Станков за получаване на образователна и научна степен "доктор"
DESCRIPTION:На 28 януари 2025 г. (вторник) от 15:00 часа в зала 478 на ИМИ-БАН и чрез Zoom\nще се проведе предварителна защита на дисертационен труд на тема\nСиметрия и метрична геометрия в банахови пространства\nна Светозар Златков Станков\nза получаване на научната степен “доктор” в област на висше образование 4. Природни науки\, математика и информатика\,\nпрофесионално направление 4.5 Математика\, научна специалност “Математически анализ”.\n\nМатериалите по дисертацията са на разположение в библиотеката на ИМИ-БАН.\nПредзащитата ще се предава и по ZOOM:\n\nTopic: Предзащита на Светозар Станков\nTime: Jan 28\, 2025 14:30 Sofia\nJoin Zoom Meeting\nhttps://us02web.zoom.us/j/87428824274?pwd=rgv2zEtbaQuKC4oTKodF0wUKw8XaaO.1\nMeeting ID: 874 2882 4274\nPasscode: 258222
URL:https://math.bas.bg/event/%d0%bf%d1%80%d0%b5%d0%b4%d0%b7%d0%b0%d1%89%d0%b8%d1%82%d0%b0-%d0%bd%d0%b0-%d0%b4%d0%b8%d1%81%d0%b5%d1%80%d1%82%d0%b0%d1%86%d0%b8%d0%be%d0%bd%d0%b5%d0%bd-%d1%82%d1%80%d1%83%d0%b4-%d0%bd%d0%b0-%d1%81/
LOCATION:Институт по математика и информатика – БАН\, Block 8\, 1113 БАН IV км.\, София\, Bulgaria
CATEGORIES:Защита
ORGANIZER;CN="%D0%A1%D0%B5%D0%BA%D1%86%D0%B8%D1%8F%20%D0%90%D0%BD%D0%B0%D0%BB%D0%B8%D0%B7%2C%20%D0%B3%D0%B5%D0%BE%D0%BC%D0%B5%D1%82%D1%80%D0%B8%D1%8F%20%D0%B8%20%D1%82%D0%BE%D0%BF%D0%BE%D0%BB%D0%BE%D0%B3%D0%B8%D1%8F":MAILTO:vmil@math.bas.bg
END:VEVENT
BEGIN:VEVENT
DTSTART;TZID=Europe/Sofia:20241029T140000
DTEND;TZID=Europe/Sofia:20241029T153000
DTSTAMP:20260419T220957
CREATED:20241023T203322Z
LAST-MODIFIED:20241023T203322Z
UID:16935-1730210400-1730215800@math.bas.bg
SUMMARY:Предзащита на дисертацията на Цветелин Заевски за присъждане на научната степен “доктор на науките”
DESCRIPTION:На 29 октомври 2024 г. (вторник) от 14:00 ч. в Зала 503 на ИМИ-БАН\, в рамките на семинара на секция ИОВС\, \nще се проведе предварителна защита на проекта на дисертационен труд на \nЦветелин Стефанов Заевски \nна тема \nUtility-based approach for pricing American-style derivatives\nза присъждане на  научната степен “доктор на науките”\nв област на висше образование 4. Природни науки\, математика и информатика\,\nпрофесионално направление 4.5 Математика\,\nнаучна специалност “Теория на вероятностите и математическа статистика”. \n\nПоканват се всички интересуващи се. \nПроектът на дисертацията е на разположение в библиотеката на ИМИ – БАН. \n\n\n 
URL:https://math.bas.bg/event/%d0%bf%d1%80%d0%b5%d0%b4%d0%b7%d0%b0%d1%89%d0%b8%d1%82%d0%b0-%d0%bd%d0%b0-%d0%b4%d0%b8%d1%81%d0%b5%d1%80%d1%82%d0%b0%d1%86%d0%b8%d1%8f%d1%82%d0%b0-%d0%bd%d0%b0-%d1%86%d0%b2%d0%b5%d1%82%d0%b5%d0%bb/
LOCATION:Институт по математика и информатика – БАН\, Block 8\, 1113 БАН IV км.\, София\, Bulgaria
CATEGORIES:Защита,Редовен семинар
ORGANIZER;CN="%D0%A1%D0%B5%D0%BA%D1%86%D0%B8%D1%8F%20%D0%98%D0%B7%D1%81%D0%BB%D0%B5%D0%B4%D0%B2%D0%B0%D0%BD%D0%B5%20%D0%BD%D0%B0%20%D0%BE%D0%BF%D0%B5%D1%80%D0%B0%D1%86%D0%B8%D0%B8%D1%82%D0%B5%2C%20%D0%B2%D0%B5%D1%80%D0%BE%D1%8F%D1%82%D0%BD%D0%BE%D1%81%D1%82%D0%B8%20%D0%B8%20%D1%81%D1%82%D0%B0%D1%82%D0%B8%D1%81%D1%82%D0%B8%D0%BA%D0%B0":MAILTO:jeni@math.bas.bg;
END:VEVENT
BEGIN:VEVENT
DTSTART;TZID=Europe/Sofia:20240322T110000
DTEND;TZID=Europe/Sofia:20240322T123000
DTSTAMP:20260419T220957
CREATED:20240320T124728Z
LAST-MODIFIED:20240320T124728Z
UID:16087-1711105200-1711110600@math.bas.bg
SUMMARY:Предзащита на дисертационен труд на Димитър Добрев за получаване на образователна и научна степен "доктор"
DESCRIPTION:На 22 март (петък) от 11 часа в зала 503 на ИМИ-БАН ще се проведе предзащита на проекта на дисертация на\n\nДимитър Димитров Добрев\n\nна тема\n\nИзкуствен интелект — дефиниция\, реализация и последствия\n\nза получаване на научната степен “доктор” в област на висше образование 4. Природни науки\, математика и информатика\,\nпрофесионално направление 4.5 Математика\, научна специалност “Математическа логика”.\n\nПроектът на дисертацията е на разположение в библиотеката на ИМИ-БАН и онлайн на следните адреси:\nhttps://dobrev.com/AI/Dobrev_PhD_v3.pdf  (основен текст)\nhttps://dobrev.com/AI/Dobrev_PhD_avtoref.pdf  (автореферат)\nhttps://dobrev.com/AI/Dobrev_PhD_abstract.pdf  (автореферат на английски език).\n\n\nПредзащитата ще се предава и по ZOOM на следния линк:\nhttps://us02web.zoom.us/j/85137375021?pwd=RE5QczdFTE1xL1R6MnI2b1lkcGczQT09\n\nПоканват се всички желаещи да присъстват.\n\nОт секция “Алгебра и логика” на ИМИ-БАН\nhttp://www.math.bas.bg/algebra/seminarAiL/
URL:https://math.bas.bg/event/%d0%bf%d1%80%d0%b5%d0%b4%d0%b7%d0%b0%d1%89%d0%b8%d1%82%d0%b0-%d0%bd%d0%b0-%d0%b4%d0%b8%d1%81%d0%b5%d1%80%d1%82%d0%b0%d1%86%d0%b8%d0%be%d0%bd%d0%b5%d0%bd-%d1%82%d1%80%d1%83%d0%b4-%d0%bd%d0%b0-%d0%b4/
LOCATION:Институт по математика и информатика – БАН\, Block 8\, 1113 БАН IV км.\, София\, Bulgaria
CATEGORIES:Защита
ORGANIZER;CN="%D0%A1%D0%B5%D0%BA%D1%86%D0%B8%D1%8F%20%D0%90%D0%BB%D0%B3%D0%B5%D0%B1%D1%80%D0%B0%20%D0%B8%20%D0%BB%D0%BE%D0%B3%D0%B8%D0%BA%D0%B0":MAILTO:algebra_logic_seminar@math.bas.bg
END:VEVENT
BEGIN:VEVENT
DTSTART;TZID=Europe/Sofia:20230407T140000
DTEND;TZID=Europe/Sofia:20230407T153000
DTSTAMP:20260419T220957
CREATED:20230403T131833Z
LAST-MODIFIED:20230403T131833Z
UID:14174-1680876000-1680881400@math.bas.bg
SUMMARY:Предзащита на Бисер Цветков за ОНС "доктор"
DESCRIPTION:На 7 април 2023 г. (вторник) от 14 ч. в зала 503 на ИМИ-БАН ще се проведе предзащита на дисертацията на \nБисер Цветков\,\nна тема \nБлокчейн технологии и приложението им\nза получаване на образователна и научня степен “доктор”. \nМатериалите по предзащитата се намират в библиотеката на ИМИ. Поканват се всички желаещи. \nРезюме:\nЦелта на дисертационния труд е да предложи решение за често срещани предизвикателства\, свързани с внедряване и поддържане на бизнес софтуерни системи в реална експлоатационна среда. Предизвикателства\, които водят до забавяне на реализацията на информационно технологични проекти и до допълнителното им оскъпяване. \nРешението е реализирано посредством блокчейн базирана архитектура\, която удовлетворява изискванията на съвременния софтуер за доставка и внедряване на бизнес софтуерни системи. То обхваща етапите от жизнения цикъл на разработка на системите (SDLC)\, като специално  внимание е обърнато на фазата\, свързана с внедряването на софтуера при крайните клиенти\, както и последващи актуализации на версиите на софтуера. Важността на този процес изисква той да става по надежден начин\, с минимално прекъсване на бизнес процесите и пълна проследимост на отговорностите на всеки един участник. В архитектурата на блокчейн базираната SDLC система е предвидено\, чрез умни договори да се автоматизират стъпки\, свързани с конкретни отговорности и ключови показатели за ефективност (KPI)\, така че своевременно да се уведомят засегнатите страни.
URL:https://math.bas.bg/event/%d0%bf%d1%80%d0%b5%d0%b4%d0%b7%d0%b0%d1%89%d0%b8%d1%82%d0%b0-%d0%bd%d0%b0-%d0%b1%d0%b8%d1%81%d0%b5%d1%80-%d1%86%d0%b2%d0%b5%d1%82%d0%ba%d0%be%d0%b2-%d0%b7%d0%b0-%d0%be%d0%bd%d1%81-%d0%b4%d0%be%d0%ba/
LOCATION:Институт по математика и информатика – БАН\, Block 8\, 1113 БАН IV км.\, София\, Bulgaria
CATEGORIES:Защита
END:VEVENT
BEGIN:VEVENT
DTSTART;TZID=Europe/Sofia:20221018T140000
DTEND;TZID=Europe/Sofia:20221018T153000
DTSTAMP:20260419T220957
CREATED:20221010T091034Z
LAST-MODIFIED:20221010T091034Z
UID:12920-1666101600-1666107000@math.bas.bg
SUMMARY:Предзащита на Детелина Камбурова
DESCRIPTION:На 18 октомври 2022 г. (вторник) от 14 ч. в зала 503 на ИМИ-БАН ще се проведе предзащита на дисертацията на \nДетелина Кирилова Камбурова\,\nредовен докторант към секция “Изследване на операциите\, вероятности и статистика” в ИМИ-БАН \nс научен ръководител акад. Юлиан Ревалски\, \nза получаване на образователна и научня степен “доктор” по докторантска програма “Изследване на операциите”. \nМатериалите по дисертацията се намират в библиотеката на ИМИ.
URL:https://math.bas.bg/event/%d0%bf%d1%80%d0%b5%d0%b4%d0%b7%d0%b0%d1%89%d0%b8%d1%82%d0%b0-%d0%bd%d0%b0-%d0%b4%d0%b5%d1%82%d0%b5%d0%bb%d0%b8%d0%bd%d0%b0-%d0%ba%d0%b0%d0%bc%d0%b1%d1%83%d1%80%d0%be%d0%b2%d0%b0/
LOCATION:Институт по математика и информатика – БАН\, Block 8\, 1113 БАН IV км.\, София\, Bulgaria
CATEGORIES:Защита
ORGANIZER;CN="%D0%A1%D0%B5%D0%BA%D1%86%D0%B8%D1%8F%20%D0%98%D0%B7%D1%81%D0%BB%D0%B5%D0%B4%D0%B2%D0%B0%D0%BD%D0%B5%20%D0%BD%D0%B0%20%D0%BE%D0%BF%D0%B5%D1%80%D0%B0%D1%86%D0%B8%D0%B8%D1%82%D0%B5%2C%20%D0%B2%D0%B5%D1%80%D0%BE%D1%8F%D1%82%D0%BD%D0%BE%D1%81%D1%82%D0%B8%20%D0%B8%20%D1%81%D1%82%D0%B0%D1%82%D0%B8%D1%81%D1%82%D0%B8%D0%BA%D0%B0":MAILTO:jeni@math.bas.bg;
END:VEVENT
BEGIN:VEVENT
DTSTART;TZID=Europe/Sofia:20220610T140000
DTEND;TZID=Europe/Sofia:20220610T153000
DTSTAMP:20260419T220957
CREATED:20220601T090344Z
LAST-MODIFIED:20220601T090344Z
UID:12451-1654869600-1654875000@math.bas.bg
SUMMARY:Семинар на секция “Математически основи на информатиката”
DESCRIPTION:На 10 юни 2022 г. (петък) от 14:00 часа в заседателната зала на ИМИ\nще се проведе предзащита на дисертация \nза присъждане на образователна и научна степен “доктор”\nв професионално направление: 4.5. Математика\,\nнаучна специалност: 01.01.02. Алгебра и теория на числата.\n\n\nна\nПаскал Николаев Пиперков\nдокторант в секция МОИ на ИМИ-БАН \n\nТема на дисертацията: \nДискретни трансформации и приложението им в теория на кодирането  и комбинаториката\n\nНаучен ръководител: проф. дмн Илия Буюклиев \nЗа онлайн участие (Zoom): \nhttps://us02web.zoom.us/j/84701255174?pwd=bnVQV290cExnS2p3RVpRZDdWdFlBUT09 \nMeeting ID: 847 0125 5174\, Passcode: 896181
URL:https://math.bas.bg/event/%d1%81%d0%b5%d0%bc%d0%b8%d0%bd%d0%b0%d1%80-%d0%bd%d0%b0-%d1%81%d0%b5%d0%ba%d1%86%d0%b8%d1%8f-%d0%bc%d0%b0%d1%82%d0%b5%d0%bc%d0%b0%d1%82%d0%b8%d1%87%d0%b5%d1%81%d0%ba%d0%b8-%d0%be%d1%81%d0%bd-3/
LOCATION:Институт по математика и информатика – БАН\, Block 8\, 1113 БАН IV км.\, София\, Bulgaria
CATEGORIES:Защита,Редовен семинар
END:VEVENT
BEGIN:VEVENT
DTSTART;TZID=Europe/Sofia:20210225T140000
DTEND;TZID=Europe/Sofia:20210225T140000
DTSTAMP:20260419T220957
CREATED:20210216T120203Z
LAST-MODIFIED:20210216T120203Z
UID:10123-1614261600-1614261600@math.bas.bg
SUMMARY:Предзащита на Константин Делчев за ОНС "доктор"
DESCRIPTION:На 25 февруари 2021 г. (четвъртък) от 14:00 часа в онлайн режим чрез конферентна (Zoom) връзка\, ще се проведе предварително обсъждане (предзащита) на проект на дисертационен труд на \nКонстантин Василев Делчев\nна тема \nКодове и дизайни в полиномиални метрични пространства\nза присъждане на образователна и научна степен “доктор” в област на висше образование 4. Природни науки\, математика и информатика\, професионално направление 4.6. Информатика и компютърни науки\, докторска програма „Информатика”. \nМатериалите по предзащитата се намират в библиотеката на ИМИ. \nЛинк за предзащитата: \nhttps://us02web.zoom.us/j/86948209882?pwd=L1VGdnRVVW02czlpSnhrMnB1NkZXdz09 \nTopic: Предзащита на Константин Делчев\nTime: Feb 25\, 2021 14:00 Sofia\nMeeting ID: 869 4820 9882\nPasscode: 995843 \n 
URL:https://math.bas.bg/event/%d0%bf%d1%80%d0%b5%d0%b4%d0%b7%d0%b0%d1%89%d0%b8%d1%82%d0%b0-%d0%bd%d0%b0-%d0%ba%d0%be%d0%bd%d1%81%d1%82%d0%b0%d0%bd%d1%82%d0%b8%d0%bd-%d0%b4%d0%b5%d0%bb%d1%87%d0%b5%d0%b2-%d0%b7%d0%b0-%d0%be%d0%bd/
LOCATION:Zoom
CATEGORIES:Защита
END:VEVENT
BEGIN:VEVENT
DTSTART;TZID=Europe/Sofia:20200214T130000
DTEND;TZID=Europe/Sofia:20200214T150000
DTSTAMP:20260419T220957
CREATED:20200206T200256Z
LAST-MODIFIED:20200206T200256Z
UID:8098-1581685200-1581692400@math.bas.bg
SUMMARY:Предзащита на дисертационен труд на гл. ас. д-р Петър Данчев
DESCRIPTION:СЕКЦИЯ „АЛГЕБРА И ЛОГИКА” \nНа 14 февруари 2020 г. (петък) от 13:00 часа в зала 578 на ИМИ – БАН\nще се състои предварително обсъждане (предзащита) на дисертацията на \nгл. ас. д-р Петър Василев Данчев (ИМИ – БАН)  \nна тема \nНЯКОИ КЛАСОВЕ ОТ НЕКОМУТАТИВНИ ПРЪСТЕНИ И АБЕЛЕВИ ГРУПИ\nза присъждане на научната степен „доктор на науките”\nв област на висше образование 4. Природни науки\, математика и информатика\,\nпрофесионално направление 4.5. Математика\,\nнаучна специалност “Алгебра и теория на числата”. \nПоканват се всички желаещи.\nОт секция „Алгебра и логика” на ИМИ – БАН\nhttp://www.math.bas.bg/algebra/seminarAiL/ \nЕкземпляр от дисертацията е на разположение в Библиотеката на ИМИ\,\nа файл с автореферата е качен на уебстраницата на семинара „Алгебра и логика” на ИМИ.
URL:https://math.bas.bg/event/%d0%bf%d1%80%d0%b5%d0%b4%d0%b7%d0%b0%d1%89%d0%b8%d1%82%d0%b0-%d0%bd%d0%b0-%d0%b4%d0%b8%d1%81%d0%b5%d1%80%d1%82%d0%b0%d1%86%d0%b8%d0%be%d0%bd%d0%b5%d0%bd-%d1%82%d1%80%d1%83%d0%b4-%d0%bd%d0%b0-%d0%b3/
LOCATION:Институт по математика и информатика – БАН\, Block 8\, 1113 БАН IV км.\, София\, Bulgaria
CATEGORIES:Защита
ORGANIZER;CN="%D0%A1%D0%B5%D0%BA%D1%86%D0%B8%D1%8F%20%D0%90%D0%BB%D0%B3%D0%B5%D0%B1%D1%80%D0%B0%20%D0%B8%20%D0%BB%D0%BE%D0%B3%D0%B8%D0%BA%D0%B0":MAILTO:algebra_logic_seminar@math.bas.bg
END:VEVENT
BEGIN:VEVENT
DTSTART;TZID=Europe/Sofia:20191218T140000
DTEND;TZID=Europe/Sofia:20191218T150000
DTSTAMP:20260419T220957
CREATED:20191210T140843Z
LAST-MODIFIED:20191210T151846Z
UID:7906-1576677600-1576681200@math.bas.bg
SUMMARY:Предзащита на Николай И. Николов за ОНС "доктор"
DESCRIPTION:На 18 декември (сряда) 2019 г. от 14:00 часа\, в зала 403 на ИМИ\, ще се проведе предварително обсъждане (предзащита) на дисертационния труд на \nНиколай Иванчев Николов\nна тема \nМетрични методи за анализиране и моделиране на наредени данни\nза присъждане на образователна и научна степен “доктор” в област на висше образование 4. Природни науки\, математика и информатика\, професионално направление 4.5. Математика\, докторска програма “Теория на вероятностите и математическа статистика”. \nМатериалите по предзащитата се намират в библиотеката на ИМИ и на адрес http://www.math.bas.bg/~statlab/Nikolay%20thesis%202019/
URL:https://math.bas.bg/event/%d0%bf%d1%80%d0%b5%d0%b4%d0%b7%d0%b0%d1%89%d0%b8%d1%82%d0%b0-%d0%bd%d0%b0-%d0%bd%d0%b8%d0%ba%d0%be%d0%bb%d0%b0%d0%b9-%d0%b8-%d0%bd%d0%b8%d0%ba%d0%be%d0%bb%d0%be%d0%b2/
LOCATION:Институт по математика и информатика – БАН\, Block 8\, 1113 БАН IV км.\, София\, Bulgaria
CATEGORIES:Защита
END:VEVENT
BEGIN:VEVENT
DTSTART;TZID=Europe/Sofia:20191218T123000
DTEND;TZID=Europe/Sofia:20191218T140000
DTSTAMP:20260419T220957
CREATED:20191216T104328Z
LAST-MODIFIED:20191216T104328Z
UID:7929-1576672200-1576677600@math.bas.bg
SUMMARY:Предзащита за ОНС "доктор" на Иван Петков
DESCRIPTION:На 18 декември (сряда) 2019 г. от 12:30 часа\, в зала 278 на ИМИ\, ще се проведе предварително обсъждане (предзащита) на дисертационния труд на \nИван Петков\nна тема \nФормиране на умения за общуване в обучението по информационни технологии\nза присъждане на образователна и научна степен “доктор” в област на висше образование 1. Педагогически науки\, професионално направление 1.3. Педагогика на обучението по …\, \, докторска програма “Методика на обучението по математика\, информатика и информационни технологии”. \nМатериалите по предзащитата се намират в библиотеката на ИМИ
URL:https://math.bas.bg/event/%d0%bf%d1%80%d0%b5%d0%b4%d0%b7%d0%b0%d1%89%d0%b8%d1%82%d0%b0-%d0%b7%d0%b0-%d0%be%d0%bd%d1%81-%d0%b4%d0%be%d0%ba%d1%82%d0%be%d1%80-%d0%bd%d0%b0-%d0%b8%d0%b2%d0%b0%d0%bd-%d0%bf%d0%b5%d1%82%d0%ba/
LOCATION:Институт по математика и информатика – БАН\, Block 8\, 1113 БАН IV км.\, София\, Bulgaria
CATEGORIES:Защита
END:VEVENT
BEGIN:VEVENT
DTSTART;TZID=Europe/Sofia:20191218T110000
DTEND;TZID=Europe/Sofia:20191218T123000
DTSTAMP:20260419T220957
CREATED:20191216T103845Z
LAST-MODIFIED:20191216T103845Z
UID:7925-1576666800-1576672200@math.bas.bg
SUMMARY:Предзащита за ОНС "доктор" на Монка Коцева
DESCRIPTION:На 18 декември (сряда) 2019 г. от 11:00 часа\, в зала 278 на ИМИ\, ще се проведе предварително обсъждане (предзащита) на дисертационния труд на \nМонка Коцева\nна тема \nМетрични методи за анализиране и моделиране на наредени данни\nза присъждане на образователна и научна степен “доктор” в област на висше образование 1. Педагогически науки\, професионално направление 1.3. Педагогика на обучението по …\, \, докторска програма “Методика на обучението по математика\, информатика и информационни технологии”. \nМатериалите по предзащитата се намират в библиотеката на ИМИ
URL:https://math.bas.bg/event/%d0%bf%d1%80%d0%b5%d0%b4%d0%b7%d0%b0%d1%89%d0%b8%d1%82%d0%b0-%d0%b7%d0%b0-%d0%be%d0%bd%d1%81-%d0%b4%d0%be%d0%ba%d1%82%d0%be%d1%80-%d0%bd%d0%b0-%d0%bc%d0%be%d0%bd%d0%ba%d0%b0-%d0%ba%d0%be%d1%86/
LOCATION:Институт по математика и информатика – БАН\, Block 8\, 1113 БАН IV км.\, София\, Bulgaria
CATEGORIES:Защита
END:VEVENT
BEGIN:VEVENT
DTSTART;TZID=Europe/Sofia:20191216T143000
DTEND;TZID=Europe/Sofia:20191216T153000
DTSTAMP:20260419T220957
CREATED:20191206T085338Z
LAST-MODIFIED:20191206T085338Z
UID:7883-1576506600-1576510200@math.bas.bg
SUMMARY:Предзащита за присъждане на научна степен "доктор" на Веселина Вучева
DESCRIPTION:На 16 декември 2019 г. (понеделник) от 14:30 часа в зала 403  на ИМИ – БАН ще се проведе предварително обсъждане (предзащита) на дисертационния труд на \nВеселина Иванова Вучева \n на тема: \nТеоретичен и числен анализ на диференчни схеми за уравнения на Бусинеск\nза присъждане на  образователна и научна степен \n“доктор”  \nв област на висше образование 4. Природни науки\, математика и информатика\,\nпрофесионално направление 4.5. Математика\,\nдокторска програма „Математическо моделиране и приложение на математиката” \nМатериалите по предзащитата се намират в библиотеката на ИМИ.
URL:https://math.bas.bg/event/%d0%bf%d1%80%d0%b5%d0%b4%d0%b7%d0%b0%d1%89%d0%b8%d1%82%d0%b0-%d0%b7%d0%b0-%d0%bf%d1%80%d0%b8%d1%81%d1%8a%d0%b6%d0%b4%d0%b0%d0%bd%d0%b5-%d0%bd%d0%b0-%d0%bd%d0%b0%d1%83%d1%87%d0%bd%d0%b0-%d1%81%d1%82-2/
LOCATION:Институт по математика и информатика – БАН\, Block 8\, 1113 БАН IV км.\, София\, Bulgaria
CATEGORIES:Защита
END:VEVENT
END:VCALENDAR