BEGIN:VCALENDAR
VERSION:2.0
PRODID:-//Institute of Mathematics and Informatics - ECPv6.0.8//NONSGML v1.0//EN
CALSCALE:GREGORIAN
METHOD:PUBLISH
X-WR-CALNAME:Institute of Mathematics and Informatics
X-ORIGINAL-URL:https://math.bas.bg
X-WR-CALDESC:Събития за Institute of Mathematics and Informatics
REFRESH-INTERVAL;VALUE=DURATION:PT1H
X-Robots-Tag:noindex
X-PUBLISHED-TTL:PT1H
BEGIN:VTIMEZONE
TZID:Europe/Sofia
BEGIN:DAYLIGHT
TZOFFSETFROM:+0200
TZOFFSETTO:+0300
TZNAME:EEST
DTSTART:20250330T010000
END:DAYLIGHT
BEGIN:STANDARD
TZOFFSETFROM:+0300
TZOFFSETTO:+0200
TZNAME:EET
DTSTART:20251026T010000
END:STANDARD
END:VTIMEZONE
BEGIN:VEVENT
DTSTART;TZID=Europe/Sofia:20251120T161500
DTEND;TZID=Europe/Sofia:20251120T173000
DTSTAMP:20260426T025534
CREATED:20251106T103707Z
LAST-MODIFIED:20251118T100147Z
UID:18442-1763655300-1763659800@math.bas.bg
SUMMARY:Национален колоквиум по математика
DESCRIPTION:СЪЮЗ НА МАТЕМАТИЦИТЕ В БЪЛГАРИЯ\n\nИНСТИТУТ ПО МАТЕМАТИКА И ИНФОРМАТИКА – БАН \n\n\n\nНАЦИОНАЛЕН КОЛОКВИУМ ПО МАТЕМАТИКА\n\n​Поредната сбирка на Колоквиума ще се състои на 20 ноември 2025 г. (сряда)  от 16:15 часа в Заседателната зала на ИМИ – БАН. Доклад на тема:\n\nИнтерполационна задача на Биркхоф: стари и нови резултати\nще изнесе проф. д.н. Гено Николов\,\nФакултет по матем​атика и информатика\, Софийски университет „Св. Климент Охридски“. \n\n\n\nРезюме. През 1906 г. американският математик Джордж Дейвид Биркхоф формулира една задача за интерполиране с алгебрични полиноми. Тази задача се задава с матрици на инцидентност и включва като частни случаи класическите интерполационни задачи на Лагранж и Ермит. За разлика от тях\, общата интерполационна задача на Биркхоф не винаги е разрешима. Въпреки че е изследван от много и изтъкнати математици\, проблемът за характеризацията на регулярните матрици на инцидентност (т.е.\, задаващи интерполационна задача на Биркхоф с единствено решение) към днешна дата стои открит.В доклада си ще разкажа за някои получени напоследък класове от регулярни матрици на инцидентност и ще припомня някои не толкова известни по-стари резултати касаещи Биркхофската интерполация.
URL:https://math.bas.bg/event/copy-%d0%bd%d0%b0%d1%86%d0%b8%d0%be%d0%bd%d0%b0%d0%bb%d0%b5%d0%bd-%d0%ba%d0%be%d0%bb%d0%be%d0%ba%d0%b2%d0%b8%d1%83%d0%bc-%d0%bf%d0%be-%d0%bc%d0%b0%d1%82%d0%b5%d0%bc%d0%b0%d1%82%d0%b8%d0%ba%d0%b0-2/
LOCATION:Институт по математика и информатика – БАН\, Block 8\, 1113 БАН IV км.\, София\, Bulgaria
CATEGORIES:Редовен семинар
ORGANIZER;CN="%D0%A1%D1%8A%D1%8E%D0%B7%20%D0%BD%D0%B0%20%D0%BC%D0%B0%D1%82%D0%B5%D0%BC%D0%B0%D1%82%D0%B8%D1%86%D0%B8%D1%82%D0%B5%20%D0%B2%20%D0%91%D1%8A%D0%BB%D0%B3%D0%B0%D1%80%D0%B8%D1%8F":MAILTO:smb.sofia@gmail.com
END:VEVENT
END:VCALENDAR