BEGIN:VCALENDAR
VERSION:2.0
PRODID:-//Institute of Mathematics and Informatics - ECPv6.0.8//NONSGML v1.0//EN
CALSCALE:GREGORIAN
METHOD:PUBLISH
X-WR-CALNAME:Institute of Mathematics and Informatics
X-ORIGINAL-URL:https://math.bas.bg
X-WR-CALDESC:Събития за Institute of Mathematics and Informatics
REFRESH-INTERVAL;VALUE=DURATION:PT1H
X-Robots-Tag:noindex
X-PUBLISHED-TTL:PT1H
BEGIN:VTIMEZONE
TZID:Europe/Sofia
BEGIN:DAYLIGHT
TZOFFSETFROM:+0200
TZOFFSETTO:+0300
TZNAME:EEST
DTSTART:20250330T010000
END:DAYLIGHT
BEGIN:STANDARD
TZOFFSETFROM:+0300
TZOFFSETTO:+0200
TZNAME:EET
DTSTART:20251026T010000
END:STANDARD
END:VTIMEZONE
BEGIN:VEVENT
DTSTART;TZID=Europe/Sofia:20250325T140000
DTEND;TZID=Europe/Sofia:20250325T153000
DTSTAMP:20260419T191834
CREATED:20250319T152833Z
LAST-MODIFIED:20250319T152833Z
UID:17502-1742911200-1742916600@math.bas.bg
SUMMARY:Семинар на МЦМН
DESCRIPTION:Дата: 25.03.2025 г.\, 14:00 ч. \nМясто: Зала 403\, ИМИ – БАН \nДокладчик: Михаил Школников\, ИМИ – БАН \nДоклад: Affine distance function \nДопълнителна информация: https://icms.bg/category/icms-seminar/ \nРезюме. Affine geometry is sometimes described as “what remains of Euclidean geometry when distances are forgotten”. In this talk\, I will report on a very recent discovery of an affine-invariant notion\, which may be viewed as a distance from a point inside a convex domain to its boundary. This new concept stems from a suggestion of Conan Leung\, who proposed to average the canonical tropical series\, a fundamental notion of tropical optics\, over the manifold of all tropical structures of fixed covolume on the given affine space. Very little of what we (Nikita Kalinin\, Ernesto Lupercio and me) currently know\, as well as necessary preliminaries\, some observations and precise conjectures\, will be covered during the talk\, which mainly serves as an invitation to participate in developing this exciting new topic.
URL:https://math.bas.bg/event/%d1%81%d0%b5%d0%bc%d0%b8%d0%bd%d0%b0%d1%80-%d0%bd%d0%b0-%d0%bc%d1%86%d0%bc%d0%bd-28/
LOCATION:Институт по математика и информатика – БАН\, Block 8\, 1113 БАН IV км.\, София\, Bulgaria
CATEGORIES:Редовен семинар
END:VEVENT
BEGIN:VEVENT
DTSTART;TZID=Europe/Sofia:20250327T160000
DTEND;TZID=Europe/Sofia:20250327T173000
DTSTAMP:20260419T191834
CREATED:20250325T192815Z
LAST-MODIFIED:20250326T082005Z
UID:17506-1743091200-1743096600@math.bas.bg
SUMMARY:Семинар на МЦМН
DESCRIPTION:Дата: 27.03.2025 г.\, 16:00 ч. \nМясто: Зала 403\, ИМИ – БАН \nДокладчик: Luis Ugarte\, University of Zaragoza\, Spain \nДоклад: Complex structures on Lie algebras and its application to the Hull-Strominger system \nДопълнителна информация: https://icms.bg/category/icms-seminar/ \nРезюме. In this talk we will explain the role that the Lie algebras play in the construction of 6-dimensional compact quotient spaces M=G/Γ\, where Γ is a lattice\, endowed with an invariant complex structure with holomorphically trivial canonical bundle.We will use the approach of stable forms in six dimensions to provide a classification of unimodular Lie algebras admitting a complex structure with non-zero closed (3\,0)-form. Some of these spaces can be equipped with balanced Hermitian metrics and they provide invariant solutions of the Hull-Strominger system\, even with non-flat connection on the tangent bundle satisfying the Hermitian-Yang-Mills condition.
URL:https://math.bas.bg/event/%d1%81%d0%b5%d0%bc%d0%b8%d0%bd%d0%b0%d1%80-%d0%bd%d0%b0-%d0%bc%d1%86%d0%bc%d0%bd-29/
LOCATION:Институт по математика и информатика – БАН\, Block 8\, 1113 БАН IV км.\, София\, Bulgaria
CATEGORIES:Редовен семинар
END:VEVENT
END:VCALENDAR