BEGIN:VCALENDAR
VERSION:2.0
PRODID:-//Institute of Mathematics and Informatics - ECPv6.0.8//NONSGML v1.0//EN
CALSCALE:GREGORIAN
METHOD:PUBLISH
X-WR-CALNAME:Institute of Mathematics and Informatics
X-ORIGINAL-URL:https://math.bas.bg
X-WR-CALDESC:Събития за Institute of Mathematics and Informatics
REFRESH-INTERVAL;VALUE=DURATION:PT1H
X-Robots-Tag:noindex
X-PUBLISHED-TTL:PT1H
BEGIN:VTIMEZONE
TZID:Europe/Sofia
BEGIN:DAYLIGHT
TZOFFSETFROM:+0200
TZOFFSETTO:+0300
TZNAME:EEST
DTSTART:20240331T010000
END:DAYLIGHT
BEGIN:STANDARD
TZOFFSETFROM:+0300
TZOFFSETTO:+0200
TZNAME:EET
DTSTART:20241027T010000
END:STANDARD
END:VTIMEZONE
BEGIN:VEVENT
DTSTART;TZID=Europe/Sofia:20240111T140000
DTEND;TZID=Europe/Sofia:20240111T153000
DTSTAMP:20260420T112257
CREATED:20240104T175203Z
LAST-MODIFIED:20240104T175203Z
UID:15795-1704981600-1704987000@math.bas.bg
SUMMARY:Семинар на МЦМН
DESCRIPTION:Дата: 11.01.2024 г.\, 14:00 ч. \nМясто: Зала 403\, ИМИ – БАН \nДокладчик: д-р Антони Рангачев\, ИМИ – БАН \nДоклад: The Milnor number of a smoothable curve \nДопълнителна информация: https://icms.bg/the-milnor-number-of-a-smoothable-curve-talk-by-antony-rangachev/ \nРезюме. In this talk I will derive an algebraic formula for the Milnor number of a smoothable complex analytic curve singularity X by relating it to the Euler characteristic of its smoothing\, which in turn I will relate to the multiplicity of the Jacobian ideal of X and and the multiplicity of X at its singular point. If time permits I will discuss generalizations to higher dimensions. This is a report on a joint work with Gaffney and Bengus-Lasnier. \n 
URL:https://math.bas.bg/event/%d1%81%d0%b5%d0%bc%d0%b8%d0%bd%d0%b0%d1%80-%d0%bd%d0%b0-%d0%bc%d1%86%d0%bc%d0%bd-16/
LOCATION:Институт по математика и информатика – БАН\, Block 8\, 1113 БАН IV км.\, София\, Bulgaria
CATEGORIES:Редовен семинар
END:VEVENT
END:VCALENDAR