BEGIN:VCALENDAR
VERSION:2.0
PRODID:-//Institute of Mathematics and Informatics - ECPv6.0.8//NONSGML v1.0//EN
CALSCALE:GREGORIAN
METHOD:PUBLISH
X-WR-CALNAME:Institute of Mathematics and Informatics
X-ORIGINAL-URL:https://math.bas.bg
X-WR-CALDESC:Събития за Institute of Mathematics and Informatics
REFRESH-INTERVAL;VALUE=DURATION:PT1H
X-Robots-Tag:noindex
X-PUBLISHED-TTL:PT1H
BEGIN:VTIMEZONE
TZID:Europe/Sofia
BEGIN:DAYLIGHT
TZOFFSETFROM:+0200
TZOFFSETTO:+0300
TZNAME:EEST
DTSTART:20220327T010000
END:DAYLIGHT
BEGIN:STANDARD
TZOFFSETFROM:+0300
TZOFFSETTO:+0200
TZNAME:EET
DTSTART:20221030T010000
END:STANDARD
END:VTIMEZONE
BEGIN:VEVENT
DTSTART;TZID=Europe/Sofia:20220724T080000
DTEND;TZID=Europe/Sofia:20220813T170000
DTSTAMP:20260419T235843
CREATED:20220802T085039Z
LAST-MODIFIED:20220802T085039Z
UID:12756-1658649600-1660410000@math.bas.bg
SUMMARY:22. Лятна изследователска школа на УчИМИ
DESCRIPTION:За двадесет и втори пореден път Ученическият институт по математика и информатика (УчИМИ) организира своята Лятна изследователска школа по математика и информатика (ЛИШ’22). Тя ще се проведе хибридно от 24 юли до 13 август\, като през първата седмица учениците ще слушат лекции дистанционно\, а след това школата ще продължи в Творческия дом на БАН във Варна. \nЗа участие в програмата на ЛИШ тази година се класираха 46 ученици с изявени интереси в областта на математиката\, информатиката и информационните технологии. \nВ школата вече традиционно има международно участие и официалният език\, на който тя се води\, е английски. Тридесет и един са средношколците от България\, а заедно с тях в школата ще участват ученици от Албания\, Азербайджан\, Бразилия\, Индия\, Катар\, Саудитска Арабия и САЩ. Трима от тях ще дойдат на място в България\, а останалите ще продължат работата със своите ментори дистанционно.
URL:https://math.bas.bg/event/22-%d0%bb%d1%8f%d1%82%d0%bd%d0%b0-%d0%b8%d0%b7%d1%81%d0%bb%d0%b5%d0%b4%d0%be%d0%b2%d0%b0%d1%82%d0%b5%d0%bb%d1%81%d0%ba%d0%b0-%d1%88%d0%ba%d0%be%d0%bb%d0%b0-%d0%bd%d0%b0-%d1%83%d1%87%d0%b8%d0%bc%d0%b8/
LOCATION:Творчески дом на БАН\, Варна\, Варна\, к.к. “Чайка”\, спирка “Журналист”\, Varna\, Bulgaria
CATEGORIES:Лятна школа
END:VEVENT
END:VCALENDAR