BEGIN:VCALENDAR
VERSION:2.0
PRODID:-//Institute of Mathematics and Informatics - ECPv6.0.8//NONSGML v1.0//EN
CALSCALE:GREGORIAN
METHOD:PUBLISH
X-WR-CALNAME:Institute of Mathematics and Informatics
X-ORIGINAL-URL:https://math.bas.bg
X-WR-CALDESC:Събития за Institute of Mathematics and Informatics
REFRESH-INTERVAL;VALUE=DURATION:PT1H
X-Robots-Tag:noindex
X-PUBLISHED-TTL:PT1H
BEGIN:VTIMEZONE
TZID:Europe/Sofia
BEGIN:DAYLIGHT
TZOFFSETFROM:+0200
TZOFFSETTO:+0300
TZNAME:EEST
DTSTART:20260329T010000
END:DAYLIGHT
BEGIN:STANDARD
TZOFFSETFROM:+0300
TZOFFSETTO:+0200
TZNAME:EET
DTSTART:20261025T010000
END:STANDARD
END:VTIMEZONE
BEGIN:VEVENT
DTSTART;TZID=Europe/Sofia:20260424T130000
DTEND;TZID=Europe/Sofia:20260424T143000
DTSTAMP:20260424T015024
CREATED:20260417T152450Z
LAST-MODIFIED:20260417T152558Z
UID:19128-1777035600-1777041000@math.bas.bg
SUMMARY:Семинар "Алгебра и логика"
DESCRIPTION:На 24 април 2026 г. (петък) от 13:00 часа\nв зала 578 на ИМИ-БАН и онлайн чрез платформата zoom\nще се проведе дистанционно заседание на семинара по „Алгебра и логика”. \nДоклад на тема: \nSets preserved by a large subgroup of the special linear group\nще изнесе \nКалоян Славов (Медицински университет\, София).\nРезюме. The classical Kakeya problem in Euclidean space asks how “small” a set can be if it contains a unit line segment in every direction. More generally\, packing sets contain all images of a given set under a collection of transformations. Finite field analogues offer a combinatorial and algebraic perspective and motivate our work. \nWe study sets \(E\) in the affine plane over a finite field that are invariant under a large subgroup \(R\) of \(SL_2\). We prove that if \(|R|>c|E|^{3/2}\)\, then \(E\) must be contained in a line. The exponent \(3/2\) is sharp. We conclude with a remark on a related phenomenon in the Euclidean setting. This is joint work with Thang Pham and Le Quang-Hung. \n\nЛинк към zoom-стаята на семинара:\nhttps://us02web.zoom.us/j/88300991142?pwd=wGYl7VaD9RZKEm99sKzHMzl3bYCv3J.1\n\nПоканват се всички желаещи да присъстват. \nОт секция „Алгебра и логика” на ИМИ – БАН\nhttp://www.math.bas.bg/algebra/seminarAiL/\n============================== =====================
URL:https://math.bas.bg/event/%d1%81%d0%b5%d0%bc%d0%b8%d0%bd%d0%b0%d1%80-%d0%b0%d0%bb%d0%b3%d0%b5%d0%b1%d1%80%d0%b0-%d0%b8-%d0%bb%d0%be%d0%b3%d0%b8%d0%ba%d0%b0-126/
LOCATION:Институт по математика и информатика – БАН\, Block 8\, 1113 БАН IV км.\, София\, Bulgaria
CATEGORIES:Редовен семинар
ORGANIZER;CN="%D0%A1%D0%B5%D0%BA%D1%86%D0%B8%D1%8F%20%D0%90%D0%BB%D0%B3%D0%B5%D0%B1%D1%80%D0%B0%20%D0%B8%20%D0%BB%D0%BE%D0%B3%D0%B8%D0%BA%D0%B0":MAILTO:algebra_logic_seminar@math.bas.bg
END:VEVENT
BEGIN:VEVENT
DTSTART;TZID=Europe/Sofia:20260424T140000
DTEND;TZID=Europe/Sofia:20260424T153000
DTSTAMP:20260424T015024
CREATED:20260420T132608Z
LAST-MODIFIED:20260420T133151Z
UID:19134-1777039200-1777044600@math.bas.bg
SUMMARY:Предзащита на Венцислав Полименов\, секция СофТИС
DESCRIPTION:На 24.04.2026 г. (петък) от 14:00 ч. в заседателната зала на ИМИ-БАН (з. 256) и чрез ZOOM ще се проведе предварителна защита на дисертационен труд на тема \nАдаптивна невронна мрежа за обработка на сателитни данни с различни пространствени и спектрални характеристики\nна  Венцислав Полименов\, \nдокторант към секция Софтуерни технологии и информационни системи\, с научен ръководител доц. Красимира Иванова\, за получаване на ОНС „доктор“ в област на висше образование 4. Природни науки\, математика и информатика\, професионално направление 4.6 “Информатика и компютърни науки”\, \n* Материалите по дисертацията са на разположение в библиотеката на ИМИ. \n* Линк за онлайн участие: https://us02web.zoom.us/j/88606059983?pwd=rsE8lZaDFuRmGpaaIuUIPRErEV6dJM.1
URL:https://math.bas.bg/event/%d0%bf%d1%80%d0%b5%d0%b4%d0%b7%d0%b0%d1%89%d0%b8%d1%82%d0%b0-%d0%bd%d0%b0-%d0%b2%d0%b5%d0%bd%d1%86%d0%b8%d1%81%d0%bb%d0%b0%d0%b2-%d0%bf%d0%be%d0%bb%d0%b8%d0%bc%d0%b5%d0%bd%d0%be%d0%b2-%d1%81%d0%b5/
LOCATION:Институт по математика и информатика – БАН\, Block 8\, 1113 БАН IV км.\, София\, Bulgaria
CATEGORIES:Защита
END:VEVENT
BEGIN:VEVENT
DTSTART;TZID=Europe/Sofia:20260428T140000
DTEND;TZID=Europe/Sofia:20260428T153000
DTSTAMP:20260424T015024
CREATED:20260422T094603Z
LAST-MODIFIED:20260422T105129Z
UID:19138-1777384800-1777390200@math.bas.bg
SUMMARY:Семинар на секция ИОВС
DESCRIPTION:На 28 април 2026 г. (вторник) от 14:00 часа в зала 503 на ИМИ-БАН \nще се проведе заседание на семинара на секция „Изследване на операциите\, вероятности и статистика“. \nДоклад на тема \nМоделиране на повдигащи системи в сметосъбирането\nще изнесе Михаил Муков от “Интеликс Инженеринг”. \nВ настоящото изложение се разглежда задачата за оценяване на масата на отпадъка\, изсипван от отделни контейнери чрез сметосъбиращ камион\, оборудван със стандартни повдигащи вилици.\nОсновната цел е разработването на нискобюджетна измервателна система\, която може да бъде инсталирана върху широк диапазон от механични конфигурации на камиони с минимални модификации.\nСистемата комбинира сензор за налягане на маслото\, монтиран в хидравличната верига\, и стандартен инерциален измервателен модул от смартфон\, фиксиран към повдигащото рамо.\nСензорът за налягане осигурява измерване\, определящо повдигащата сила\, а акселерометърът и жироскопът се използват за оценяване на движението на повдигащото рамо. Въз основа на тези измервания и на предварително калибриран модел се определя масата на изсипания отпадък.\nОсновният акцент в изложението е върху физичната и математичната структура на метода. Това включва:\n\nВиртуално преориентиране на сензора към координатната система на камиона.\nПредварителна обработка на суровите сензорни данни.\nПремахване на дрифта на жироскопа.\nИнтегриране на ъгловата скорост за получаване на абсолютния ъгъл на изхвърляне.\nФизичен модел с неопределени параметри\, формулиран във вид\, подходящ за калибриране чрез регресионни методи.\nПодход с градиентно спускане за автоматично определяне на оптималната позиция на измерване.\nЛинейна апроксимация на експоненциалната зависимост на вискозитета на хидравличното масло от температурата\, което позволява системата да остане приложима и при ниски зимни температури.\n\nДокладът е по съвместни работи с Дамян Калагларски (Интеликс Инженеринг)  и проф. дмн Огнян Кунчев (ИМИ-БАН).\n\nПоканват се всички\, които се интересуват от темата.
URL:https://math.bas.bg/event/%d1%81%d0%b5%d0%bc%d0%b8%d0%bd%d0%b0%d1%80-%d0%bd%d0%b0-%d1%81%d0%b5%d0%ba%d1%86%d0%b8%d1%8f-%d0%b8%d0%be%d0%b2%d1%81-2/
LOCATION:Институт по математика и информатика – БАН\, Block 8\, 1113 БАН IV км.\, София\, Bulgaria
CATEGORIES:Редовен семинар
ORGANIZER;CN="%D0%A1%D0%B5%D0%BA%D1%86%D0%B8%D1%8F%20%D0%98%D0%B7%D1%81%D0%BB%D0%B5%D0%B4%D0%B2%D0%B0%D0%BD%D0%B5%20%D0%BD%D0%B0%20%D0%BE%D0%BF%D0%B5%D1%80%D0%B0%D1%86%D0%B8%D0%B8%D1%82%D0%B5%2C%20%D0%B2%D0%B5%D1%80%D0%BE%D1%8F%D1%82%D0%BD%D0%BE%D1%81%D1%82%D0%B8%20%D0%B8%20%D1%81%D1%82%D0%B0%D1%82%D0%B8%D1%81%D1%82%D0%B8%D0%BA%D0%B0":MAILTO:jeni@math.bas.bg;
END:VEVENT
BEGIN:VEVENT
DTSTART;TZID=Europe/Sofia:20260429T140000
DTEND;TZID=Europe/Sofia:20260429T153000
DTSTAMP:20260424T015024
CREATED:20260422T141543Z
LAST-MODIFIED:20260422T141543Z
UID:19144-1777471200-1777476600@math.bas.bg
SUMMARY:Национален семинар по стохастика
DESCRIPTION:Поредната сбирка на \nНационалния семинар по стохастика\nще се проведе на 29 април 2026 г. (сряда) от 14:00 часа в зала 503 на ИМИ – БАН. \nДоклад на тема \nProgressively Type-II censored competing risks data from Odd Lindley Half-Logistic distribution\nще изнесе \nStevo Gjorgiev (Ss. Cyril and Methodius University in Skopje). \n\nРезюме: A competing risks model based on the Odd Lindley Half Logistic distribution is considered under progressive Type II censoring. Maximum likelihood estimates for the distribution parameters are obtained\, and the existence and uniqueness of these estimates are proven. The EM algorithm is applied to solve the log- likelihood equations and construct the s-th EM sequence. Additionally\, using the missing information principle\, the observed and expected Fisher information matrices are derived\, and asymptotic confidence intervals for the parameters are computed based on them. \nПовече информация за доклада можете да намерите на страницата на семинара: \n\nhttp://www.math.bas.bg/~statlab/NSPS/\n 
URL:https://math.bas.bg/event/%d0%bd%d0%b0%d1%86%d0%b8%d0%be%d0%bd%d0%b0%d0%bb%d0%b5%d0%bd-%d1%81%d0%b5%d0%bc%d0%b8%d0%bd%d0%b0%d1%80-%d0%bf%d0%be-%d1%81%d1%82%d0%be%d1%85%d0%b0%d1%81%d1%82%d0%b8%d0%ba%d0%b0-46/
LOCATION:Институт по математика и информатика – БАН\, Block 8\, 1113 БАН IV км.\, София\, Bulgaria
CATEGORIES:Редовен семинар
ORGANIZER;CN="%D0%98%D0%BD%D1%81%D1%82%D0%B8%D1%82%D1%83%D1%82%20%D0%BF%D0%BE%20%D0%BC%D0%B0%D1%82%D0%B5%D0%BC%D0%B0%D1%82%D0%B8%D0%BA%D0%B0%20%D0%B8%20%D0%B8%D0%BD%D1%84%D0%BE%D1%80%D0%BC%D0%B0%D1%82%D0%B8%D0%BA%D0%B0%20-%20%D0%91%D0%90%D0%9D":MAILTO:office@math.bas.bg
END:VEVENT
BEGIN:VEVENT
DTSTART;TZID=Europe/Sofia:20260512T130000
DTEND;TZID=Europe/Sofia:20260512T140000
DTSTAMP:20260424T015024
CREATED:20260417T084807Z
LAST-MODIFIED:20260417T084807Z
UID:19111-1778590800-1778594400@math.bas.bg
SUMMARY:Семинар на секция “Математически основи на информатиката”
DESCRIPTION:На 12 май 2026 г. (вторник)\nот 13:00 часа\nв зала 503 на ИМИ-БАН\nще се проведе заседание на семинара на\nсекция „Математически основи на информатиката”.\n\nДоклад на тема:\n\nLinear codes and Steiner triple systems\n\nще изнесе\nпроф. Владимир Тончев\,\nMichigan Technological University\, Houghton\, USA.\n\n\n\n\nАбстракт на доклада може да изтеглите тук.
URL:https://math.bas.bg/event/%d1%81%d0%b5%d0%bc%d0%b8%d0%bd%d0%b0%d1%80-%d0%bd%d0%b0-%d1%81%d0%b5%d0%ba%d1%86%d0%b8%d1%8f-%d0%bc%d0%b0%d1%82%d0%b5%d0%bc%d0%b0%d1%82%d0%b8%d1%87%d0%b5%d1%81%d0%ba%d0%b8-%d0%be%d1%81%d0%bd-6/
LOCATION:Институт по математика и информатика – БАН\, Block 8\, 1113 БАН IV км.\, София\, Bulgaria
CATEGORIES:Редовен семинар
END:VEVENT
BEGIN:VEVENT
DTSTART;TZID=Europe/Sofia:20260519T100000
DTEND;TZID=Europe/Sofia:20260519T113000
DTSTAMP:20260424T015024
CREATED:20260417T130924Z
LAST-MODIFIED:20260417T131217Z
UID:19124-1779184800-1779190200@math.bas.bg
SUMMARY:Семинар "Дигитална култура"
DESCRIPTION:Следващата сбирка на Семинар “Дигитална култура” \nще се проведе на 19 май 2026 г. (вторник) от 10:00 часа в зала 256 на ИМИ-БАН. \nДоклад на тема: \nCompeting Conceptions of AGI\nще изнесе Pei Wang (Temple University\, USA)\, редактор на Journal of Artificial General Intelligence. \nРезюме: While the term “Artificial General Intelligence” (AGI) has been used to identify a research field for 20 years\, a consensus on its goal remains controversial. These divergent interpretations are not merely philosophical\, as they lead to fundamentally different research agendas and engineering methodologies. In this talk\, the NARS (Non-Axiomatic Reasoning System) project is introduced\, with an outline of its assumptions\, representations\, inference rules\, and working process. NARS offers a fundamentally different vision of AGI than the one implied by today’s LLMs.
URL:https://math.bas.bg/event/%d1%81%d0%b5%d0%bc%d0%b8%d0%bd%d0%b0%d1%80-%d0%b4%d0%b8%d0%b3%d0%b8%d1%82%d0%b0%d0%bb%d0%bd%d0%b0-%d0%ba%d1%83%d0%bb%d1%82%d1%83%d1%80%d0%b0-6/
LOCATION:Институт по математика и информатика – БАН\, Block 8\, 1113 БАН IV км.\, София\, Bulgaria
CATEGORIES:Редовен семинар
END:VEVENT
END:VCALENDAR