BEGIN:VCALENDAR
VERSION:2.0
PRODID:-//Institute of Mathematics and Informatics - ECPv6.0.8//NONSGML v1.0//EN
CALSCALE:GREGORIAN
METHOD:PUBLISH
X-WR-CALNAME:Institute of Mathematics and Informatics
X-ORIGINAL-URL:https://math.bas.bg
X-WR-CALDESC:Събития за Institute of Mathematics and Informatics
REFRESH-INTERVAL;VALUE=DURATION:PT1H
X-Robots-Tag:noindex
X-PUBLISHED-TTL:PT1H
BEGIN:VTIMEZONE
TZID:Europe/Sofia
BEGIN:DAYLIGHT
TZOFFSETFROM:+0200
TZOFFSETTO:+0300
TZNAME:EEST
DTSTART:20210328T010000
END:DAYLIGHT
BEGIN:STANDARD
TZOFFSETFROM:+0300
TZOFFSETTO:+0200
TZNAME:EET
DTSTART:20211031T010000
END:STANDARD
BEGIN:DAYLIGHT
TZOFFSETFROM:+0200
TZOFFSETTO:+0300
TZNAME:EEST
DTSTART:20220327T010000
END:DAYLIGHT
BEGIN:STANDARD
TZOFFSETFROM:+0300
TZOFFSETTO:+0200
TZNAME:EET
DTSTART:20221030T010000
END:STANDARD
END:VTIMEZONE
BEGIN:VEVENT
DTSTART;VALUE=DATE:20221125
DTEND;VALUE=DATE:20221127
DTSTAMP:20260420T023733
CREATED:20221020T181545Z
LAST-MODIFIED:20221020T193333Z
UID:12994-1669334400-1669507199@math.bas.bg
SUMMARY:Национален семинар "Изследователският подход в математическото образование"
DESCRIPTION:Следващото издание на Националния семинар “Изследователският подход в математическото образование”  ще се проведе хибридно на 25 – 26 ноември 2022 г. \nМожете да се участва с доклад\, постер или като наблюдател. \nСрокът за регистрация за Националния семинар по образование е 13 ноември 2022 г.\nРегистрацията можете да направите онлайн чрез Регистрационната форма за Националния семинар по образование. \nЗа повече информация посетете сайта на семинара.
URL:https://math.bas.bg/event/%d0%bd%d0%b0%d1%86%d0%b8%d0%be%d0%bd%d0%b0%d0%bb%d0%b5%d0%bd-%d1%81%d0%b5%d0%bc%d0%b8%d0%bd%d0%b0%d1%80-%d0%b8%d0%b7%d1%81%d0%bb%d0%b5%d0%b4%d0%be%d0%b2%d0%b0%d1%82%d0%b5%d0%bb%d1%81%d0%ba%d0%b8-3/
LOCATION:Институт по математика и информатика – БАН\, Block 8\, 1113 БАН IV км.\, София\, Bulgaria
CATEGORIES:Конференция,Работен семинар
END:VEVENT
BEGIN:VEVENT
DTSTART;VALUE=DATE:20211126
DTEND;VALUE=DATE:20211128
DTSTAMP:20260420T023733
CREATED:20210914T162917Z
LAST-MODIFIED:20210914T162917Z
UID:11105-1637884800-1638057599@math.bas.bg
SUMMARY:Национален семинар "Изследователският подход в математическото образование"
DESCRIPTION:Следващото издание на Националния семинар “Изследователският подход в математическото образование”  ще се проведе онлайн на 26 – 27 ноември 2021 г. \nМожете да се участва с доклад\, постер или като наблюдател. \nСрокът за регистрация за Националния семинар по образование е 14 ноември 2021 г.\nРегистрацията можете да направите онлайн чрез Регистрационната форма за Националния семинар по образование. \nЗа повече информация посетете сайта на семинара.
URL:https://math.bas.bg/event/%d0%bd%d0%b0%d1%86%d0%b8%d0%be%d0%bd%d0%b0%d0%bb%d0%b5%d0%bd-%d1%81%d0%b5%d0%bc%d0%b8%d0%bd%d0%b0%d1%80-%d0%b8%d0%b7%d1%81%d0%bb%d0%b5%d0%b4%d0%be%d0%b2%d0%b0%d1%82%d0%b5%d0%bb%d1%81%d0%ba%d0%b8-2/
LOCATION:Онлайн
CATEGORIES:Конференция,Работен семинар
END:VEVENT
END:VCALENDAR