BEGIN:VCALENDAR
VERSION:2.0
PRODID:-//Institute of Mathematics and Informatics - ECPv6.0.8//NONSGML v1.0//EN
CALSCALE:GREGORIAN
METHOD:PUBLISH
X-WR-CALNAME:Institute of Mathematics and Informatics
X-ORIGINAL-URL:https://math.bas.bg
X-WR-CALDESC:Събития за Institute of Mathematics and Informatics
REFRESH-INTERVAL;VALUE=DURATION:PT1H
X-Robots-Tag:noindex
X-PUBLISHED-TTL:PT1H
BEGIN:VTIMEZONE
TZID:Europe/Sofia
BEGIN:DAYLIGHT
TZOFFSETFROM:+0200
TZOFFSETTO:+0300
TZNAME:EEST
DTSTART:20230326T010000
END:DAYLIGHT
BEGIN:STANDARD
TZOFFSETFROM:+0300
TZOFFSETTO:+0200
TZNAME:EET
DTSTART:20231029T010000
END:STANDARD
END:VTIMEZONE
BEGIN:VEVENT
DTSTART;TZID=Europe/Sofia:20230206T143000
DTEND;TZID=Europe/Sofia:20230206T160000
DTSTAMP:20260426T033345
CREATED:20230203T083305Z
LAST-MODIFIED:20230203T083305Z
UID:13747-1675693800-1675699200@math.bas.bg
SUMMARY:Семинар "Дидактическо моделиране"
DESCRIPTION:Поредната сбирка на семинара \nДидактическо моделиране\nще се проведе на 06.02.2023 г. от 14:30 ч. присъствено в зала 278 на ИМИ. \nДоклад на тема \nОнлайн състезание VIVA Математика с компютър\nще изнесат \nакад. Петър Кендеров\, проф. Тони Чехларова и гл. ас. Георги Гачев.
URL:https://math.bas.bg/event/%d1%81%d0%b5%d0%bc%d0%b8%d0%bd%d0%b0%d1%80-%d0%b4%d0%b8%d0%b4%d0%b0%d0%ba%d1%82%d0%b8%d1%87%d0%b5%d1%81%d0%ba%d0%be-%d0%bc%d0%be%d0%b4%d0%b5%d0%bb%d0%b8%d1%80%d0%b0%d0%bd%d0%b5-27/
LOCATION:Институт по математика и информатика – БАН\, Block 8\, 1113 БАН IV км.\, София\, Bulgaria
CATEGORIES:Редовен семинар
END:VEVENT
BEGIN:VEVENT
DTSTART;TZID=Europe/Sofia:20230220T143000
DTEND;TZID=Europe/Sofia:20230220T160000
DTSTAMP:20260426T033345
CREATED:20230212T122328Z
LAST-MODIFIED:20230212T122328Z
UID:13873-1676903400-1676908800@math.bas.bg
SUMMARY:Семинар "Дидактическо моделиране"
DESCRIPTION:Поредната сбирка на семинара \nДидактическо моделиране\nще се проведе на 20.02.2023 г. от 14:30 ч. присъствено в зала 278 на ИМИ. \nДоклад на тема \nПодбор на задачи за Националната олимпиада по математика за 4. – 7 . клас\nще изнесе \nНевена Събева-Колева.
URL:https://math.bas.bg/event/%d1%81%d0%b5%d0%bc%d0%b8%d0%bd%d0%b0%d1%80-%d0%b4%d0%b8%d0%b4%d0%b0%d0%ba%d1%82%d0%b8%d1%87%d0%b5%d1%81%d0%ba%d0%be-%d0%bc%d0%be%d0%b4%d0%b5%d0%bb%d0%b8%d1%80%d0%b0%d0%bd%d0%b5-28/
LOCATION:Институт по математика и информатика – БАН\, Block 8\, 1113 БАН IV км.\, София\, Bulgaria
CATEGORIES:Редовен семинар
END:VEVENT
END:VCALENDAR