BEGIN:VCALENDAR
VERSION:2.0
PRODID:-//Institute of Mathematics and Informatics - ECPv6.0.8//NONSGML v1.0//EN
CALSCALE:GREGORIAN
METHOD:PUBLISH
X-WR-CALNAME:Institute of Mathematics and Informatics
X-ORIGINAL-URL:https://math.bas.bg
X-WR-CALDESC:Събития за Institute of Mathematics and Informatics
REFRESH-INTERVAL;VALUE=DURATION:PT1H
X-Robots-Tag:noindex
X-PUBLISHED-TTL:PT1H
BEGIN:VTIMEZONE
TZID:Europe/Sofia
BEGIN:DAYLIGHT
TZOFFSETFROM:+0200
TZOFFSETTO:+0300
TZNAME:EEST
DTSTART:20220327T010000
END:DAYLIGHT
BEGIN:STANDARD
TZOFFSETFROM:+0300
TZOFFSETTO:+0200
TZNAME:EET
DTSTART:20221030T010000
END:STANDARD
END:VTIMEZONE
BEGIN:VEVENT
DTSTART;TZID=Europe/Sofia:20221010T143000
DTEND;TZID=Europe/Sofia:20221010T160000
DTSTAMP:20260424T230638
CREATED:20221010T074959Z
LAST-MODIFIED:20221010T074959Z
UID:12917-1665412200-1665417600@math.bas.bg
SUMMARY:Семинар "Дидактическо моделиране"
DESCRIPTION:Поредната сбирка на семинара \nДидактическо моделиране\nще се проведе на 10.10.2022 г. от 14:30 ч. присъствено в зала 278 на ИМИ. \nДоклад на тема \nРекурентни редици и приложенията им в задачи по вероятности – из преподавателската практика в Американския колеж – София\nще изнесе \nгл. ас. д-р Борислава Виденова.
URL:https://math.bas.bg/event/%d1%81%d0%b5%d0%bc%d0%b8%d0%bd%d0%b0%d1%80-%d0%b4%d0%b8%d0%b4%d0%b0%d0%ba%d1%82%d0%b8%d1%87%d0%b5%d1%81%d0%ba%d0%be-%d0%bc%d0%be%d0%b4%d0%b5%d0%bb%d0%b8%d1%80%d0%b0%d0%bd%d0%b5-22/
LOCATION:Институт по математика и информатика – БАН\, Block 8\, 1113 БАН IV км.\, София\, Bulgaria
CATEGORIES:Редовен семинар
END:VEVENT
BEGIN:VEVENT
DTSTART;TZID=Europe/Sofia:20221024T143000
DTEND;TZID=Europe/Sofia:20221024T160000
DTSTAMP:20260424T230638
CREATED:20221017T153548Z
LAST-MODIFIED:20221017T153548Z
UID:12975-1666621800-1666627200@math.bas.bg
SUMMARY:Семинар "Дидактическо моделиране"
DESCRIPTION:Поредната сбирка на семинара \nДидактическо моделиране\nще се проведе на 24.10.2022 г. от 14:30 ч. присъствено в зала 278 на ИМИ. \nДоклад на тема \nСесия за създаване на задачи към конгреса на WFNMC\nще изнесе \nдоц. Ивайло Кортезов.
URL:https://math.bas.bg/event/%d1%81%d0%b5%d0%bc%d0%b8%d0%bd%d0%b0%d1%80-%d0%b4%d0%b8%d0%b4%d0%b0%d0%ba%d1%82%d0%b8%d1%87%d0%b5%d1%81%d0%ba%d0%be-%d0%bc%d0%be%d0%b4%d0%b5%d0%bb%d0%b8%d1%80%d0%b0%d0%bd%d0%b5-23/
LOCATION:Институт по математика и информатика – БАН\, Block 8\, 1113 БАН IV км.\, София\, Bulgaria
CATEGORIES:Редовен семинар
END:VEVENT
END:VCALENDAR