BEGIN:VCALENDAR
VERSION:2.0
PRODID:-//Institute of Mathematics and Informatics - ECPv6.0.8//NONSGML v1.0//EN
CALSCALE:GREGORIAN
METHOD:PUBLISH
X-WR-CALNAME:Institute of Mathematics and Informatics
X-ORIGINAL-URL:https://math.bas.bg
X-WR-CALDESC:Събития за Institute of Mathematics and Informatics
REFRESH-INTERVAL;VALUE=DURATION:PT1H
X-Robots-Tag:noindex
X-PUBLISHED-TTL:PT1H
BEGIN:VTIMEZONE
TZID:Europe/Sofia
BEGIN:DAYLIGHT
TZOFFSETFROM:+0200
TZOFFSETTO:+0300
TZNAME:EEST
DTSTART:20220327T010000
END:DAYLIGHT
BEGIN:STANDARD
TZOFFSETFROM:+0300
TZOFFSETTO:+0200
TZNAME:EET
DTSTART:20221030T010000
END:STANDARD
END:VTIMEZONE
BEGIN:VEVENT
DTSTART;TZID=Europe/Sofia:20220314T143000
DTEND;TZID=Europe/Sofia:20220314T160000
DTSTAMP:20260424T193854
CREATED:20220309T151945Z
LAST-MODIFIED:20220309T151945Z
UID:12036-1647268200-1647273600@math.bas.bg
SUMMARY:Семинар "Дидактическо моделиране"
DESCRIPTION:Поредната сбирка на семинара \nДидактическо моделиране\nще се проведе на 14.03.2022 г. от 14:30 ч. присъствено в зала 278 на ИМИ и дистанционно в Zoom \nна \nhttps://us02web.zoom.us/j/84999372384?pwd=b2dGNHpDMVV2eHZEMjhOY3VMRDIyUT09 \nMeeting ID: 849 9937 2384    Passcode: 489610 \nДоклад на тема \nЕдна малко позната страна на афинните преобразования\n\nще изнесе \nдоц. Бойко Банчев.
URL:https://math.bas.bg/event/%d1%81%d0%b5%d0%bc%d0%b8%d0%bd%d0%b0%d1%80-%d0%b4%d0%b8%d0%b4%d0%b0%d0%ba%d1%82%d0%b8%d1%87%d0%b5%d1%81%d0%ba%d0%be-%d0%bc%d0%be%d0%b4%d0%b5%d0%bb%d0%b8%d1%80%d0%b0%d0%bd%d0%b5-18/
LOCATION:Институт по математика и информатика – БАН\, Block 8\, 1113 БАН IV км.\, София\, Bulgaria
CATEGORIES:Редовен семинар
END:VEVENT
BEGIN:VEVENT
DTSTART;TZID=Europe/Sofia:20220328T143000
DTEND;TZID=Europe/Sofia:20220328T160000
DTSTAMP:20260424T193854
CREATED:20220320T085910Z
LAST-MODIFIED:20220320T085910Z
UID:12062-1648477800-1648483200@math.bas.bg
SUMMARY:Семинар "Дидактическо моделиране"
DESCRIPTION:Поредната сбирка на семинара \nДидактическо моделиране\nще се проведе на 28.03.2022 г. от 14:30 ч. присъствено в зала 478 на ИМИ и дистанционно в Zoom. \nДоклад на тема \nЗа мястото на ученическото творчество в часовете по математика в 4. клас\nще изнесе \nас. Невена Събева. \nTime: Mar 28\, 2022 14:00 Sofia\nJoin Zoom Meeting\nhttps://us02web.zoom.us/j/87086998237?pwd=QmRNN1hRZU0rNlg2aGozbnhRNVgxQT09\nMeeting ID: 870 8699 8237  Passcode: 711085
URL:https://math.bas.bg/event/%d1%81%d0%b5%d0%bc%d0%b8%d0%bd%d0%b0%d1%80-%d0%b4%d0%b8%d0%b4%d0%b0%d0%ba%d1%82%d0%b8%d1%87%d0%b5%d1%81%d0%ba%d0%be-%d0%bc%d0%be%d0%b4%d0%b5%d0%bb%d0%b8%d1%80%d0%b0%d0%bd%d0%b5-19/
LOCATION:Zoom
CATEGORIES:Редовен семинар
END:VEVENT
END:VCALENDAR