BEGIN:VCALENDAR
VERSION:2.0
PRODID:-//Institute of Mathematics and Informatics - ECPv6.0.8//NONSGML v1.0//EN
CALSCALE:GREGORIAN
METHOD:PUBLISH
X-ORIGINAL-URL:https://math.bas.bg
X-WR-CALDESC:Събития за Institute of Mathematics and Informatics
REFRESH-INTERVAL;VALUE=DURATION:PT1H
X-Robots-Tag:noindex
X-PUBLISHED-TTL:PT1H
BEGIN:VTIMEZONE
TZID:Europe/Sofia
BEGIN:DAYLIGHT
TZOFFSETFROM:+0200
TZOFFSETTO:+0300
TZNAME:EEST
DTSTART:20220327T010000
END:DAYLIGHT
BEGIN:STANDARD
TZOFFSETFROM:+0300
TZOFFSETTO:+0200
TZNAME:EET
DTSTART:20221030T010000
END:STANDARD
END:VTIMEZONE
BEGIN:VEVENT
DTSTART;TZID=Europe/Sofia:20220131T143000
DTEND;TZID=Europe/Sofia:20220131T160000
DTSTAMP:20260419T193317
CREATED:20220122T093219Z
LAST-MODIFIED:20220122T093219Z
UID:11774-1643639400-1643644800@math.bas.bg
SUMMARY:Семинар "Дидактическо моделиране"
DESCRIPTION:Поредната сбирка на семинара \nДидактическо моделиране\nще се проведе на 31.01.2022 г. от 14:30 ч. дистанционно в Zoom на: \nhttps://us02web.zoom.us/j/88972650233?pwd=V3NSenZrc0xqN3BOT1RKL2d6NFJMUT09. \nДоклад на тема \nСъздаване на изследователска установка – демонстрация при обучение на учители\nще изнесе\nд-р Георги Гачев.
URL:https://math.bas.bg/event/%d1%81%d0%b5%d0%bc%d0%b8%d0%bd%d0%b0%d1%80-%d0%b4%d0%b8%d0%b4%d0%b0%d0%ba%d1%82%d0%b8%d1%87%d0%b5%d1%81%d0%ba%d0%be-%d0%bc%d0%be%d0%b4%d0%b5%d0%bb%d0%b8%d1%80%d0%b0%d0%bd%d0%b5-15/
LOCATION:Zoom
CATEGORIES:Редовен семинар
END:VEVENT
END:VCALENDAR