BEGIN:VCALENDAR
VERSION:2.0
PRODID:-//Institute of Mathematics and Informatics - ECPv6.0.8//NONSGML v1.0//EN
CALSCALE:GREGORIAN
METHOD:PUBLISH
X-ORIGINAL-URL:https://math.bas.bg
X-WR-CALDESC:Събития за Institute of Mathematics and Informatics
REFRESH-INTERVAL;VALUE=DURATION:PT1H
X-Robots-Tag:noindex
X-PUBLISHED-TTL:PT1H
BEGIN:VTIMEZONE
TZID:Europe/Sofia
BEGIN:DAYLIGHT
TZOFFSETFROM:+0200
TZOFFSETTO:+0300
TZNAME:EEST
DTSTART:20220327T010000
END:DAYLIGHT
BEGIN:STANDARD
TZOFFSETFROM:+0300
TZOFFSETTO:+0200
TZNAME:EET
DTSTART:20221030T010000
END:STANDARD
END:VTIMEZONE
BEGIN:VEVENT
DTSTART;TZID=Europe/Sofia:20221122T133000
DTEND;TZID=Europe/Sofia:20221122T150000
DTSTAMP:20260420T103111
CREATED:20221115T161853Z
LAST-MODIFIED:20221209T142721Z
UID:13306-1669123800-1669129200@math.bas.bg
SUMMARY:Курс по алгебрична геометрия към МЦМН
DESCRIPTION:Д-р Андрей Бенгус-Ласние ще изнесе кратък курс към МЦМН (около 8 лекции) по разрешаване на особености: \nIntroduction to Resolution of Singularities\nТемата на курса е фундаментална за алгебричната геометрия. През последните години се направиха много неуспешни опити да се докаже съществуването на разрешаване на особености\, когато базовото поле е с положителна характеристика. \nКурсът е достъпен за студенти по математика с познатия по комутативна алгебра. \nПървата лекция е на 22-ри ноември от 13:30 ч. в зала 403 на ИМИ-БАН. \nАнотация на курса \nПървите две лекции на д-р Бенгус-Ласние можете да видите тук: \n\n\n 
URL:https://math.bas.bg/event/%d0%ba%d1%83%d1%80%d1%81-%d0%bf%d0%be-%d0%b0%d0%bb%d0%b3%d0%b5%d0%b1%d1%80%d0%b8%d1%87%d0%bd%d0%b0-%d0%b3%d0%b5%d0%be%d0%bc%d0%b5%d1%82%d1%80%d0%b8%d1%8f-%d0%ba%d1%8a%d0%bc-%d0%bc%d1%86%d0%bc%d0%bd/
LOCATION:Институт по математика и информатика – БАН\, Block 8\, 1113 БАН IV км.\, София\, Bulgaria
CATEGORIES:Лекция
END:VEVENT
END:VCALENDAR